BEGIN:VCALENDAR
VERSION:2.0
PRODID:-//Path of Integration - ECPv6.15.20//NONSGML v1.0//EN
CALSCALE:GREGORIAN
METHOD:PUBLISH
X-WR-CALNAME:Path of Integration
X-ORIGINAL-URL:https://pathofintegration.org
X-WR-CALDESC:Events for Path of Integration
REFRESH-INTERVAL;VALUE=DURATION:PT1H
X-Robots-Tag:noindex
X-PUBLISHED-TTL:PT1H
BEGIN:VTIMEZONE
TZID:Europe/London
BEGIN:DAYLIGHT
TZOFFSETFROM:+0000
TZOFFSETTO:+0100
TZNAME:BST
DTSTART:20250330T010000
END:DAYLIGHT
BEGIN:STANDARD
TZOFFSETFROM:+0100
TZOFFSETTO:+0000
TZNAME:GMT
DTSTART:20251026T010000
END:STANDARD
BEGIN:DAYLIGHT
TZOFFSETFROM:+0000
TZOFFSETTO:+0100
TZNAME:BST
DTSTART:20260329T010000
END:DAYLIGHT
BEGIN:STANDARD
TZOFFSETFROM:+0100
TZOFFSETTO:+0000
TZNAME:GMT
DTSTART:20261025T010000
END:STANDARD
BEGIN:DAYLIGHT
TZOFFSETFROM:+0000
TZOFFSETTO:+0100
TZNAME:BST
DTSTART:20270328T010000
END:DAYLIGHT
BEGIN:STANDARD
TZOFFSETFROM:+0100
TZOFFSETTO:+0000
TZNAME:GMT
DTSTART:20271031T010000
END:STANDARD
END:VTIMEZONE
BEGIN:VEVENT
DTSTART;TZID=Europe/London:20260129T190000
DTEND;TZID=Europe/London:20260129T200000
DTSTAMP:20260421T191201
CREATED:20250915T215805Z
LAST-MODIFIED:20250915T215805Z
UID:14003-1769713200-1769716800@pathofintegration.org
SUMMARY:School of the Soul Reading Group
DESCRIPTION:Free Online Course.\nKabbalah: School of the Soul \nJoanna and I would like you to join us in reading Warren’s Kabbalah: School of the Soul. \nPlease contact  info@pathofintegration.org if you care to join us. Thank you. \nWhile this is a free course\, should you wish to make an online donation\, your contribution will help support the Kabbalah Path of Integration (London School of the Kabbalah Society) with ongoing IT maintenance costs\, course development projects\, and equipment. Thank you. https://pathofintegration.org/make-a-donation/
URL:https://pathofintegration.org/event/school-of-the-soul-reading-group-2/
LOCATION:Online from London\, Greencroft Gardens\,\, London\, NW6 3LT\, United Kingdom
CATEGORIES:Public
ORGANIZER;CN="Joanna & Kurt":MAILTO:admin@pathofintegration.org
END:VEVENT
END:VCALENDAR