BEGIN:VCALENDAR
VERSION:2.0
PRODID:-//Path of Integration - ECPv6.15.20//NONSGML v1.0//EN
CALSCALE:GREGORIAN
METHOD:PUBLISH
X-ORIGINAL-URL:https://pathofintegration.org
X-WR-CALDESC:Events for Path of Integration
REFRESH-INTERVAL;VALUE=DURATION:PT1H
X-Robots-Tag:noindex
X-PUBLISHED-TTL:PT1H
BEGIN:VTIMEZONE
TZID:Europe/London
BEGIN:DAYLIGHT
TZOFFSETFROM:+0000
TZOFFSETTO:+0100
TZNAME:BST
DTSTART:20250330T010000
END:DAYLIGHT
BEGIN:STANDARD
TZOFFSETFROM:+0100
TZOFFSETTO:+0000
TZNAME:GMT
DTSTART:20251026T010000
END:STANDARD
BEGIN:DAYLIGHT
TZOFFSETFROM:+0000
TZOFFSETTO:+0100
TZNAME:BST
DTSTART:20260329T010000
END:DAYLIGHT
BEGIN:STANDARD
TZOFFSETFROM:+0100
TZOFFSETTO:+0000
TZNAME:GMT
DTSTART:20261025T010000
END:STANDARD
BEGIN:DAYLIGHT
TZOFFSETFROM:+0000
TZOFFSETTO:+0100
TZNAME:BST
DTSTART:20270328T010000
END:DAYLIGHT
BEGIN:STANDARD
TZOFFSETFROM:+0100
TZOFFSETTO:+0000
TZNAME:GMT
DTSTART:20271031T010000
END:STANDARD
END:VTIMEZONE
BEGIN:VEVENT
DTSTART;TZID=Europe/London:20260128T190000
DTEND;TZID=Europe/London:20260128T201500
DTSTAMP:20260421T191608
CREATED:20250915T203327Z
LAST-MODIFIED:20250915T203327Z
UID:13947-1769626800-1769631300@pathofintegration.org
SUMMARY:Wednesday Meeting
DESCRIPTION:Members only. \nWeekly contemplations. \nThe group meets weekly to ‘form a vessel\,’ enabling people from different countries to unite in a sacred space for inner work. \nUsing the universal principles of The Tree of Life and Jacob’s Ladder as a guide\, we study the metaphysics of the four worlds of nature\, psychology\, creation\, and divinity in relation to our inner and external world. \nExperiences that can be shared and understood in the light of the Tree of Life and Jacob’s Ladder help to bring the teaching to life. \n  \nMembers’ Access to Zoom Links for all Meetings \n\nLog in with your password.\nNavigate from the Main Menu bar to Members’ Area > Resources > Group Meetings\nClick on the ‘Zoom Link’ lightbox and the required link to access the meeting – the passcode may be required.\n\nPlease do not share the Zoom link with others. It is only available to people who have registered for Group Membership.   \nAccess Issues\nIf you experience access issues on the day\, please email admin@pathofintegration.org for assistance.
URL:https://pathofintegration.org/event/wednesday-meeting-10/
LOCATION:Online from London\, Greencroft Gardens\,\, London\, NW6 3LT\, United Kingdom
CATEGORIES:Public
ORGANIZER;CN="Joanna & Kurt":MAILTO:admin@pathofintegration.org
END:VEVENT
END:VCALENDAR